BEGIN:VCALENDAR
VERSION:2.0
PRODID:-//wp-events-plugin.com//7.2.3.1//EN
TZID:Europe/Paris
X-WR-TIMEZONE:Europe/Paris
BEGIN:VEVENT
UID:6622@i2m.univ-amu.fr
DTSTART;TZID=Europe/Paris:20201127T140000
DTEND;TZID=Europe/Paris:20201127T160000
DTSTAMP:20241209T192511Z
URL:https://www.i2m.univ-amu.fr/evenements/wikipedia-la-fabrique-dune-ency
 clopedie-a-lere-du-logiciel-libre-sociologie-dun-commun-numerique-de-masse
 -leo-joubert/
SUMMARY:Léo Joubert (I2M\, Aix-Marseille Université & LEST): Wikipedia: l
 a fabrique d'une encyclopédie à l'ère du logiciel libre. Sociologie d'u
 n commun numérique de masse
DESCRIPTION:Léo Joubert: Sous la direction de Eric Verdier (directeur\, LE
 ST) et de Laurence Reboul (co-directrice\, I2M\, ALEA_STA).\nThèse en pr
 éparation à Aix-Marseille \, dans le cadre de Espaces\, cultures\, soci
 étés (355) \, en partenariat avec Laboratoire d'Economie et de Sociologi
 e du Travail (equipe de recherche) depuis le 18-09-2015 .\nS’appuyant su
 r la sociologie du numérique\, la sociologie interactionniste des profess
 ions et la théorie des biens communs\, cette thèse analyse l’émergenc
 e et l’évolution de la version francophone de Wikipédia\, une encyclop
 édie « participative ». S’inspirant de l’approche de Norbert Elias 
 en termes de configurations\, la démarche appréhende Wikipédia comme un
 e structure évolutive résultant d’interdépendances entre règles\, pa
 rcours individuels et corpus encyclopédique.\nLa première partie est con
 sacrée à la généalogie de ces divers éléments et de leur articulatio
 n\, qui aboutit à définir Wikipédia comme un « commun numérique de ma
 sse ».\nLa deuxième partie rend compte de notre parcours méthodologique
  en s’efforçant de retracer les difficultés inhérentes à la sociolog
 ie d’un site web. Elles tiennent notamment à la nature et à l’articu
 lation des données mobilisées\, à savoir sur le versant qualitatif 28 e
 ntretiens biographiques de contributeurs et un important corpus de documen
 ts publiés en lignes\, ainsi que deux sources quantitatives : 12 424 rép
 onses à une enquête par questionnaire et les archives numériques des ru
 briques de Wikipédia. Le traitement de l’ensemble de ces données a che
 rché à rendre compte des différenciations qui traversent les divers com
 posants de Wikipédia.\nLa troisième partie de la thèse analyse la confi
 guration wikipédienne au travers de ses règles\, en les appréhendant co
 mme le résultat d’un apprentissage organisationnel de la gouvernance de
  la masse. L’augmentation du nombre de contributeurs (2004 – 2007) mod
 ifie les modalités d’élaboration du travail d’écriture des notices 
 de l’encyclopédie. Ces contraintes nouvelles sont prises en charge par 
 des contributeurs assimilables à des « professionnels » du contrôle de
 s flux d’information. L’augmentation du nombre d’usagers (après 200
 7) fait de Wikipédia une encyclopédie de référence\, ce qui suscite l
 ’émergence\, à côté de la « communauté des contributeurs »\, d’
 une « société des usagers ». Les controverses publiques relatives à l
 a fiabilité de Wikipédia ont une profonde incidence sur les règles wiki
 pédiennes. Saisi comme le produit de cette histoire\, le corpus wikipédi
 en est alors replacé dans la pluralité des enjeux que sa rédaction et s
 on utilisation ne manquent pas de susciter.\nLa quatrième partie de la th
 èse appréhende la configuration par l’entremise de parcours de contrib
 uteurs à l’aide d’un modèle séquentiel de « carrière » en trois 
 temps\, distinguant notamment des moments de « sélection » et d’ « i
 dentification ». Deux premières étapes\, le « passage à l’acte » e
 t la « décision de rester »\, sélectionnent parmi les usagers de Wikip
 édia\, les wikipédiens » potentiels. Une troisième étape\, la « cris
 tallisation »\, consiste en la construction d’« identités de wikipéd
 ien ».\nLa combinaison de ces deux niveaux d’analyse\, traditionnelleme
 nt pris en compte de façon séparée\, conduit à proposer une « critiqu
 e sociologique du commun ». Après avoir mis à l’épreuve les approche
 s théorisant l’institution des « communs »\, Wikipédia est analysée
  comme un dispositif contribuant à l’émancipation d’individus préal
 ablement sélectionnés.\nWikipedia: the making of an encyclopedia in the 
 free software era. Sociology of a mass digital commons\nBased on digital s
 ociology\, the interactionist sociology of professions and the theory of c
 ommons\, this thesis analyzes the emergence and evolution of the French-sp
 eaking version of Wikipedia\, a "participatory" encyclopedia. Inspired by 
 Norbert Elias's approach in terms of configurations\, the approach sees Wi
 kipedia as an evolving structure resulting from interdependencies between 
 rules\, individual paths and encyclopedic corpus. \nThe first part is devo
 ted to the genealogy of these various elements and their articulation\, wh
 ich ends up defining Wikipedia as a “mass digital commons”. \nThe seco
 nd part reports on our methodological journey by attempting to trace the d
 ifficulties inherent in the sociology of a website. They are due in partic
 ular to the nature and the articulation of the data mobilized\, namely on 
 the qualitative side 28 biographical interviews of contributors and a larg
 e body of documents published online\, as well as two quantitative sources
 : 12\,424 responses to a survey by questionnaire and the digital archive o
 f Wikipedia sections. The processing of all of this data sought to account
  for the differentiations that cross the various components of Wikipedia. 
 \nThe third part of the thesis analyzes the Wikipedian configuration throu
 gh its rules\, understanding them as the result of organizational learning
  in mass governance. The increase in the number of contributors (2004 - 20
 07) changes the way in which the work of writing encyclopedia records is d
 rawn up. These new constraints are taken on by contributors who can be ass
 imilated to "professionals" in the control of information flows. The incre
 ase in the number of users (after 2007) made Wikipedia a reference encyclo
 pedia\, which prompted the emergence\, alongside the "community of contrib
 utors"\, of a "society of users". Public controversies over Wikipedia's re
 liability have a profound impact on Wikipedia's rules. Seized as the produ
 ct of this story\, the Wikipedian corpus is then placed in the plurality o
 f issues that its writing and use do not fail to raise. \nThe fourth part 
 of the thesis examines the configuration through the path of contributors 
 using a three-step "career" sequential model\, distinguishing in particula
 r between moments of "selection" and "identification". The first two stage
 s\, the "taking action" and the "decision to stay\," select from among Wik
 ipedia users\, potential Wikipedians. A third step\, "crystallization"\, i
 s the construction of "Wikipedian identities". \nThe combination of these 
 two levels of analysis\, traditionally taken into account separately\, lea
 ds to a "sociological critique of the common". After putting to the test t
 he approaches theorizing the institution of the "commons"\, Wikipedia is a
 nalyzed as a device contributing to the emancipation of previously selecte
 d individuals.\nLiens:\nhttps://lest.fr/fr/articles/2020/11/leo-joubert-so
 utenu-sa-these-avec-succes\nhttps://lest.fr/index.php/fr/equipe/recherche/
 leo-joubert
ATTACH;FMTTYPE=image/jpeg:https://www.i2m.univ-amu.fr/wp-content/uploads/2
 021/02/Leo_Joubert.jpg
CATEGORIES:Soutenance de thèse,ALEA,Statistique
END:VEVENT
BEGIN:VTIMEZONE
TZID:Europe/Paris
X-LIC-LOCATION:Europe/Paris
BEGIN:STANDARD
DTSTART:20201025T020000
TZOFFSETFROM:+0200
TZOFFSETTO:+0100
TZNAME:CET
END:STANDARD
END:VTIMEZONE
END:VCALENDAR